BEGIN:VCALENDAR
VERSION:2.0
PRODID:-//78.153.216.68//NONSGML kigkonsult.se iCalcreator 2.20//
CALSCALE:GREGORIAN
METHOD:PUBLISH
X-WR-CALNAME:Cuisle Centre
X-WR-CALDESC:Wellness Wholeness Wellbeing
X-FROM-URL:http://cuislecentre.ie
X-WR-TIMEZONE:Europe/Dublin
BEGIN:VTIMEZONE
TZID:Europe/Dublin
X-LIC-LOCATION:Europe/Dublin
BEGIN:STANDARD
DTSTART:20171029T020000
TZOFFSETFROM:+0100
TZOFFSETTO:+0000
TZNAME:GMT
END:STANDARD
BEGIN:DAYLIGHT
DTSTART:20180325T010000
TZOFFSETFROM:+0000
TZOFFSETTO:+0100
TZNAME:IST
END:DAYLIGHT
END:VTIMEZONE
BEGIN:VEVENT
UID:2rd2iuq1s1ttfa2gi1pahp84pf@google.com
DTSTAMP:20171102T081239Z
CATEGORIES:
CONTACT:
DESCRIPTION:
DTSTART;TZID=Europe/Dublin:20170927T190000
DTEND;TZID=Europe/Dublin:20170927T200000
LOCATION:Cuisle Centre
RRULE:FREQ=DAILY;COUNT=1
SEQUENCE:0
SUMMARY:Community Prayer Service
URL:http://cuislecentre.ie/event/community-prayer-service-10/
END:VEVENT
END:VCALENDAR
