BEGIN:VCALENDAR
VERSION:2.0
PRODID:-//78.153.216.68//NONSGML kigkonsult.se iCalcreator 2.20//
CALSCALE:GREGORIAN
METHOD:PUBLISH
X-WR-CALNAME:Cuisle Centre
X-WR-CALDESC:Wellness Wholeness Wellbeing
X-FROM-URL:http://cuislecentre.ie
X-WR-TIMEZONE:Europe/Dublin
BEGIN:VTIMEZONE
TZID:Europe/Dublin
X-LIC-LOCATION:Europe/Dublin
BEGIN:STANDARD
DTSTART:20171029T020000
TZOFFSETFROM:+0100
TZOFFSETTO:+0000
TZNAME:GMT
END:STANDARD
BEGIN:DAYLIGHT
DTSTART:20180325T010000
TZOFFSETFROM:+0000
TZOFFSETTO:+0100
TZNAME:IST
END:DAYLIGHT
END:VTIMEZONE
BEGIN:VEVENT
UID:cdgmcopg70pj4b9hckoj2b9k74sm6b9pclj64b9k6hhj4cphc8pm6cj264@google.com
DTSTAMP:20171102T081152Z
CATEGORIES:
CONTACT:
DESCRIPTION:
DTSTART;TZID=Europe/Dublin:20170910T150000
DTEND;TZID=Europe/Dublin:20170910T170000
LOCATION:Cuisle Centre\, 47a Ranelagh Road\, Dublin 6
RRULE:FREQ=WEEKLY;WKST=SU
SEQUENCE:0
SUMMARY:Fitness with Arlindo
URL:http://cuislecentre.ie/event/fitness-with-arlindo/
X-COST-TYPE:free
END:VEVENT
END:VCALENDAR
