BEGIN:VCALENDAR
VERSION:2.0
PRODID:-//78.153.216.68//NONSGML kigkonsult.se iCalcreator 2.20//
CALSCALE:GREGORIAN
METHOD:PUBLISH
X-WR-CALNAME:Cuisle Centre
X-WR-CALDESC:Wellness Wholeness Wellbeing
X-FROM-URL:http://cuislecentre.ie
X-WR-TIMEZONE:Europe/Dublin
BEGIN:VTIMEZONE
TZID:Europe/Dublin
X-LIC-LOCATION:Europe/Dublin
BEGIN:STANDARD
DTSTART:20171029T020000
TZOFFSETFROM:+0100
TZOFFSETTO:+0000
TZNAME:GMT
END:STANDARD
BEGIN:DAYLIGHT
DTSTART:20180325T010000
TZOFFSETFROM:+0000
TZOFFSETTO:+0100
TZNAME:IST
END:DAYLIGHT
END:VTIMEZONE
BEGIN:VEVENT
UID:6ssjiopnc9j3ib9lcop62b9k6ko3ib9p70rj6bb66srmcdpl61hj2d1hc4@google.com
DTSTAMP:20171102T081355Z
CATEGORIES:
CONTACT:
DESCRIPTION:
DTSTART;TZID=Europe/Dublin:20171012T190000
DTEND;TZID=Europe/Dublin:20171012T210000
LOCATION:Cuisle Centre
RRULE:FREQ=WEEKLY;COUNT=6;BYDAY=TH;WKST=MO
SEQUENCE:0
SUMMARY:Parentalk
URL:http://cuislecentre.ie/event/parentalk/
END:VEVENT
END:VCALENDAR
